BEGIN:VCALENDAR
VERSION:2.0
PRODID:-//JVK//NONSGML v1.0//EN
CALSCALE:GREGORIAN
METHOD:PUBLISH
X-WR-CALNAME:Jihočeská vědecká knihovna
X-WR-TIMEZONE:Europe/Prague
X-WR-CALDESC:Akce pořádané v knihovně
BEGIN:VEVENT
LOCATION:Jihočeská vědecká knihovna\, Lidická 1\, přízemí
DESCRIPTION:více na: https://www.cbvk.cz/aktuality.html?idakce=1068
DTSTART:20221108
DTEND:20221108
SUMMARY:Cestovatel Jakub Venglář/ Írán \, čas: 18:30
URL;VALUE=URI:https://www.cbvk.cz/aktuality.html?idakce=1068
DTSTAMP:20260419
UID:69e5111220040
END:VEVENT
END:VCALENDAR