BEGIN:VCALENDAR
VERSION:2.0
PRODID:-//JVK//NONSGML v1.0//EN
CALSCALE:GREGORIAN
METHOD:PUBLISH
X-WR-CALNAME:Jihočeská vědecká knihovna
X-WR-TIMEZONE:Europe/Prague
X-WR-CALDESC:Akce pořádané v knihovně
BEGIN:VEVENT
LOCATION:Jihočeská vědecká knihovna\, pobočka Vltava
DESCRIPTION:více na: https://www.cbvk.cz/aktuality.html?idakce=1149
DTSTART:20230209
DTEND:20230209
SUMMARY:JIŘÍ ŠESTÁK / BESEDA \, čas: 18:00
URL;VALUE=URI:https://www.cbvk.cz/aktuality.html?idakce=1149
DTSTAMP:20260425
UID:69ebfa98c00d6
END:VEVENT
END:VCALENDAR