BEGIN:VCALENDAR
VERSION:2.0
PRODID:-//JVK//NONSGML v1.0//EN
CALSCALE:GREGORIAN
METHOD:PUBLISH
X-WR-CALNAME:Jihočeská vědecká knihovna
X-WR-TIMEZONE:Europe/Prague
X-WR-CALDESC:Akce pořádané v knihovně
BEGIN:VEVENT
LOCATION:Jihočeská vědecká knihovna\, pobočka Suché Vrbné
DESCRIPTION:více na: https://www.cbvk.cz/aktuality.html?idakce=1152
DTSTART:20230214
DTEND:20230214
SUMMARY:Čaj o páté/ angličtina s rodilým mluvčím  \, čas: 17:00
URL;VALUE=URI:https://www.cbvk.cz/aktuality.html?idakce=1152
DTSTAMP:20260420
UID:69e59f9461d7d
END:VEVENT
END:VCALENDAR