BEGIN:VCALENDAR
VERSION:2.0
PRODID:-//JVK//NONSGML v1.0//EN
CALSCALE:GREGORIAN
METHOD:PUBLISH
X-WR-CALNAME:Jihočeská vědecká knihovna
X-WR-TIMEZONE:Europe/Prague
X-WR-CALDESC:Akce pořádané v knihovně
BEGIN:VEVENT
LOCATION:Jihočeská vědecká knihovna\, Lidická 1\, přízemí\, u pultu
DESCRIPTION:více na: https://www.cbvk.cz/aktuality.html?idakce=1391
DTSTART:20231204
DTEND:20240104
SUMMARY:Karel Klostermann a zrod Šumavy \, čas: v době otevření knihovny
URL;VALUE=URI:https://www.cbvk.cz/aktuality.html?idakce=1391
DTSTAMP:20260421
UID:69e70fed172e8
END:VEVENT
END:VCALENDAR