BEGIN:VCALENDAR
VERSION:2.0
PRODID:-//JVK//NONSGML v1.0//EN
CALSCALE:GREGORIAN
METHOD:PUBLISH
X-WR-CALNAME:Jihočeská vědecká knihovna
X-WR-TIMEZONE:Europe/Prague
X-WR-CALDESC:Akce pořádané v knihovně
BEGIN:VEVENT
LOCATION:Jihočeská vědecká knihovna\, Na Sadech 27\, oddělení pro děti
DESCRIPTION:více na: https://www.cbvk.cz/aktuality.html?idakce=1463
DTSTART:20240326
DTEND:20240326
SUMMARY:Jarní tvoření \, čas: 15:00 - 16:00
URL;VALUE=URI:https://www.cbvk.cz/aktuality.html?idakce=1463
DTSTAMP:20260423
UID:69e963beb3265
END:VEVENT
END:VCALENDAR