BEGIN:VCALENDAR
VERSION:2.0
PRODID:-//JVK//NONSGML v1.0//EN
CALSCALE:GREGORIAN
METHOD:PUBLISH
X-WR-CALNAME:Jihočeská vědecká knihovna
X-WR-TIMEZONE:Europe/Prague
X-WR-CALDESC:Akce pořádané v knihovně
BEGIN:VEVENT
LOCATION:Jihočeská vědecká knihovna\, pobočka Vltava\, nutná rezervace na vltava@cbvk.cz
DESCRIPTION:více na: https://www.cbvk.cz/aktuality.html?idakce=1464
DTSTART:20240322
DTEND:20240322
SUMMARY:Noc s Andersenem / Vltava \, čas: 16.00-20.00
URL;VALUE=URI:https://www.cbvk.cz/aktuality.html?idakce=1464
DTSTAMP:20260420
UID:69e63b8dcbec4
END:VEVENT
END:VCALENDAR