BEGIN:VCALENDAR
VERSION:2.0
PRODID:-//JVK//NONSGML v1.0//EN
CALSCALE:GREGORIAN
METHOD:PUBLISH
X-WR-CALNAME:Jihočeská vědecká knihovna
X-WR-TIMEZONE:Europe/Prague
X-WR-CALDESC:Akce pořádané v knihovně
BEGIN:VEVENT
LOCATION:Jihočeská vědecká knihovna\, pobočka Suché Vrbné
DESCRIPTION:více na: https://www.cbvk.cz/aktuality.html?idakce=1534
DTSTART:20240522
DTEND:20240522
SUMMARY:Pohádka s vodníkem Vrbičkou \, čas: 16:00
URL;VALUE=URI:https://www.cbvk.cz/aktuality.html?idakce=1534
DTSTAMP:20260422
UID:69e8825096a69
END:VEVENT
END:VCALENDAR