BEGIN:VCALENDAR
VERSION:2.0
PRODID:-//JVK//NONSGML v1.0//EN
CALSCALE:GREGORIAN
METHOD:PUBLISH
X-WR-CALNAME:Jihočeská vědecká knihovna
X-WR-TIMEZONE:Europe/Prague
X-WR-CALDESC:Akce pořádané v knihovně
BEGIN:VEVENT
LOCATION:Jihočeská vědecká knihovna\, Lidická 1\, audiosál
DESCRIPTION:více na: https://www.cbvk.cz/aktuality.html?idakce=1544
DTSTART:20240520
DTEND:20240520
SUMMARY:Cesta na dovolenou aneb Jak se vyhnout dezinformacím/ pro 65+ \, čas: 13:00-15:00
URL;VALUE=URI:https://www.cbvk.cz/aktuality.html?idakce=1544
DTSTAMP:20260420
UID:69e677c126ecd
END:VEVENT
END:VCALENDAR