BEGIN:VCALENDAR
VERSION:2.0
PRODID:-//JVK//NONSGML v1.0//EN
CALSCALE:GREGORIAN
METHOD:PUBLISH
X-WR-CALNAME:Jihočeská vědecká knihovna
X-WR-TIMEZONE:Europe/Prague
X-WR-CALDESC:Akce pořádané v knihovně
BEGIN:VEVENT
LOCATION:Jihočeská vědecká knihovna\, Lidická 1\, přízemí 
DESCRIPTION:více na: https://www.cbvk.cz/aktuality.html?idakce=1607
DTSTART:20240925
DTEND:20240925
SUMMARY:Šumava Litera \, čas: 18:00
URL;VALUE=URI:https://www.cbvk.cz/aktuality.html?idakce=1607
DTSTAMP:20260422
UID:69e8102c17df0
END:VEVENT
END:VCALENDAR