BEGIN:VCALENDAR
VERSION:2.0
PRODID:-//JVK//NONSGML v1.0//EN
CALSCALE:GREGORIAN
METHOD:PUBLISH
X-WR-CALNAME:Jihočeská vědecká knihovna
X-WR-TIMEZONE:Europe/Prague
X-WR-CALDESC:Akce pořádané v knihovně
BEGIN:VEVENT
LOCATION:Jihočeská vědecká knihovna\, Lidická 1\, 1. patro
DESCRIPTION:Pořádá Krajská rada seniorů Jihočeského kraje.\, více na: https://www.cbvk.cz/aktuality.html?idakce=1639
DTSTART:20241011
DTEND:20241130
SUMMARY:Senior foto  2024 / výstava  \, čas: v době otevření knihovny
URL;VALUE=URI:https://www.cbvk.cz/aktuality.html?idakce=1639
DTSTAMP:20260421
UID:69e7af00331c5
END:VEVENT
END:VCALENDAR