BEGIN:VCALENDAR
VERSION:2.0
PRODID:-//JVK//NONSGML v1.0//EN
CALSCALE:GREGORIAN
METHOD:PUBLISH
X-WR-CALNAME:Jihočeská vědecká knihovna
X-WR-TIMEZONE:Europe/Prague
X-WR-CALDESC:Akce pořádané v knihovně
BEGIN:VEVENT
LOCATION:Jihočeská vědecká knihovna\, Na Sadech 27\, oddělení pro dospělé
DESCRIPTION:více na: https://www.cbvk.cz/aktuality.html?idakce=1666
DTSTART:20241107
DTEND:20241107
SUMMARY:PODZIMNÍ TVOŘENÍ  \, čas: 16:00
URL;VALUE=URI:https://www.cbvk.cz/aktuality.html?idakce=1666
DTSTAMP:20260424
UID:69eb97b06887c
END:VEVENT
END:VCALENDAR