BEGIN:VCALENDAR
VERSION:2.0
PRODID:-//JVK//NONSGML v1.0//EN
CALSCALE:GREGORIAN
METHOD:PUBLISH
X-WR-CALNAME:Jihočeská vědecká knihovna
X-WR-TIMEZONE:Europe/Prague
X-WR-CALDESC:Akce pořádané v knihovně
BEGIN:VEVENT
LOCATION:Jihočeská vědecká knihovna\, pobočka Čtyři Dvory\, nutná rezervace\, pro děti 8+
DESCRIPTION:více na: https://www.cbvk.cz/aktuality.html?idakce=1786
DTSTART:20250328
DTEND:20250328
SUMMARY:Noc s Andersenem/ ČD - Noc plná čar a kouzel \, čas: Pá 18:00 - So 9:00
URL;VALUE=URI:https://www.cbvk.cz/aktuality.html?idakce=1786
DTSTAMP:20260424
UID:69ebd811486fd
END:VEVENT
END:VCALENDAR