BEGIN:VCALENDAR
VERSION:2.0
PRODID:-//JVK//NONSGML v1.0//EN
CALSCALE:GREGORIAN
METHOD:PUBLISH
X-WR-CALNAME:Jihočeská vědecká knihovna
X-WR-TIMEZONE:Europe/Prague
X-WR-CALDESC:Akce pořádané v knihovně
BEGIN:VEVENT
LOCATION:Jihočeská vědecká knihovna\, pobočka Vltava\, nutná rezervace\, poplatek za materiál 70 Kč
DESCRIPTION:více na: https://www.cbvk.cz/aktuality.html?idakce=1794
DTSTART:20250310
DTEND:20250310
SUMMARY:JARNÍ DRÁTOVÁNÍ \, čas: 15:30
URL;VALUE=URI:https://www.cbvk.cz/aktuality.html?idakce=1794
DTSTAMP:20260421
UID:69e7bfd3ad0ac
END:VEVENT
END:VCALENDAR