BEGIN:VCALENDAR
VERSION:2.0
PRODID:-//JVK//NONSGML v1.0//EN
CALSCALE:GREGORIAN
METHOD:PUBLISH
X-WR-CALNAME:Jihočeská vědecká knihovna
X-WR-TIMEZONE:Europe/Prague
X-WR-CALDESC:Akce pořádané v knihovně
BEGIN:VEVENT
LOCATION:Jihočeská vědecká knihovna\, Lidická 1\, přízemí 
DESCRIPTION:více na: https://www.cbvk.cz/aktuality.html?idakce=1807
DTSTART:20250307
DTEND:20250429
SUMMARY:Klima se mění\, změň se i TY! / výstava \, čas: v době otevření knihovny
URL;VALUE=URI:https://www.cbvk.cz/aktuality.html?idakce=1807
DTSTAMP:20260421
UID:69e76850878ce
END:VEVENT
END:VCALENDAR