BEGIN:VCALENDAR
VERSION:2.0
PRODID:-//JVK//NONSGML v1.0//EN
CALSCALE:GREGORIAN
METHOD:PUBLISH
X-WR-CALNAME:Jihočeská vědecká knihovna
X-WR-TIMEZONE:Europe/Prague
X-WR-CALDESC:Akce pořádané v knihovně
BEGIN:VEVENT
LOCATION:Jihočeská vědecká knihovna\, Lidická 1\, hala\, přízemí
DESCRIPTION:více na: https://www.cbvk.cz/aktuality.html?idakce=1862
DTSTART:20250513
DTEND:20250513
SUMMARY:DRACULA / Divadlo Víti Marčíka ml. \, čas: 19:00
URL;VALUE=URI:https://www.cbvk.cz/aktuality.html?idakce=1862
DTSTAMP:20260420
UID:69e58c4a71238
END:VEVENT
END:VCALENDAR