BEGIN:VCALENDAR
VERSION:2.0
PRODID:-//JVK//NONSGML v1.0//EN
CALSCALE:GREGORIAN
METHOD:PUBLISH
X-WR-CALNAME:Jihočeská vědecká knihovna
X-WR-TIMEZONE:Europe/Prague
X-WR-CALDESC:Akce pořádané v knihovně
BEGIN:VEVENT
LOCATION:Jihočeská vědecká knihovna\, Lidická 1\, 1. patro
DESCRIPTION:více na: https://www.cbvk.cz/aktuality.html?idakce=1865
DTSTART:20250522
DTEND:20250522
SUMMARY:BuďArt /festival Panel LoVE - komentovaná prohlídka \, čas: 17:00
URL;VALUE=URI:https://www.cbvk.cz/aktuality.html?idakce=1865
DTSTAMP:20260423
UID:69e9b0dfb7b11
END:VEVENT
END:VCALENDAR