BEGIN:VCALENDAR
VERSION:2.0
PRODID:-//JVK//NONSGML v1.0//EN
CALSCALE:GREGORIAN
METHOD:PUBLISH
X-WR-CALNAME:Jihočeská vědecká knihovna
X-WR-TIMEZONE:Europe/Prague
X-WR-CALDESC:Akce pořádané v knihovně
BEGIN:VEVENT
LOCATION:Jihočeská vědecká knihovna\, Lidická 1\, přízemí 
DESCRIPTION:více na: https://www.cbvk.cz/aktuality.html?idakce=1870
DTSTART:20250514
DTEND:20250828
SUMMARY:BREJLE A OKULIARE/ výstava   \, čas: v době otevření knihovny
URL;VALUE=URI:https://www.cbvk.cz/aktuality.html?idakce=1870
DTSTAMP:20260422
UID:69e80de25d114
END:VEVENT
END:VCALENDAR