BEGIN:VCALENDAR
VERSION:2.0
PRODID:-//JVK//NONSGML v1.0//EN
CALSCALE:GREGORIAN
METHOD:PUBLISH
X-WR-CALNAME:Jihočeská vědecká knihovna
X-WR-TIMEZONE:Europe/Prague
X-WR-CALDESC:Akce pořádané v knihovně
BEGIN:VEVENT
LOCATION:Jihočeská vědecká knihovna\, pobočka Suché Vrbné
DESCRIPTION:více na: https://www.cbvk.cz/aktuality.html?idakce=214
DTSTART:20180228
DTEND:20180228
SUMMARY:ČTENÍ NÁS BAVÍ \, čas: 16:00
URL;VALUE=URI:https://www.cbvk.cz/aktuality.html?idakce=214
DTSTAMP:20260419
UID:69e4d536975ce
END:VEVENT
END:VCALENDAR