BEGIN:VCALENDAR
VERSION:2.0
PRODID:-//JVK//NONSGML v1.0//EN
CALSCALE:GREGORIAN
METHOD:PUBLISH
X-WR-CALNAME:Jihočeská vědecká knihovna
X-WR-TIMEZONE:Europe/Prague
X-WR-CALDESC:Akce pořádané v knihovně
BEGIN:VEVENT
LOCATION:Jihočeská vědecká knihovna\, Na Sadech 27\, dětské oddělení
DESCRIPTION:více na: https://www.cbvk.cz/aktuality.html?idakce=571
DTSTART:20190902
DTEND:20190902
SUMMARY:Dětské oddělení - 2.9. celý den otevřeno
URL;VALUE=URI:https://www.cbvk.cz/aktuality.html?idakce=571
DTSTAMP:20260422
UID:69e8153131c32
END:VEVENT
END:VCALENDAR