BEGIN:VCALENDAR
VERSION:2.0
PRODID:-//JVK//NONSGML v1.0//EN
CALSCALE:GREGORIAN
METHOD:PUBLISH
X-WR-CALNAME:Jihočeská vědecká knihovna
X-WR-TIMEZONE:Europe/Prague
X-WR-CALDESC:Akce pořádané v knihovně
BEGIN:VEVENT
LOCATION:Jihočeská vědecká knihovna\, pobočka Vltava
DESCRIPTION:více na: https://www.cbvk.cz/aktuality.html?idakce=916
DTSTART:20211111
DTEND:20211111
SUMMARY:Josef Maršálek \, čas: 18:00
URL;VALUE=URI:https://www.cbvk.cz/aktuality.html?idakce=916
DTSTAMP:20260420
UID:69e5b8ef623cd
END:VEVENT
END:VCALENDAR