BEGIN:VCALENDAR
VERSION:2.0
PRODID:-//JVK//NONSGML v1.0//EN
CALSCALE:GREGORIAN
METHOD:PUBLISH
X-WR-CALNAME:Jihočeská vědecká knihovna
X-WR-TIMEZONE:Europe/Prague
X-WR-CALDESC:Akce pořádané v knihovně
BEGIN:VEVENT
LOCATION:Jihočeská vědecká knihovna\, Lidická 1\, audiosál
DESCRIPTION:více na: https://www.cbvk.cz/aktuality.html?idakce=950
DTSTART:20220126
DTEND:20220126
SUMMARY:Životní osudy Jiřího Albrechta Zbudovského  \, čas: 18:30
URL;VALUE=URI:https://www.cbvk.cz/aktuality.html?idakce=950
DTSTAMP:20260423
UID:69e9bc293a040
END:VEVENT
END:VCALENDAR