BEGIN:VCALENDAR
VERSION:2.0
PRODID:-//JVK//NONSGML v1.0//EN
CALSCALE:GREGORIAN
METHOD:PUBLISH
X-WR-CALNAME:Jihočeská vědecká knihovna
X-WR-TIMEZONE:Europe/Prague
X-WR-CALDESC:Akce pořádané v knihovně
BEGIN:VEVENT
LOCATION:Jihočeská vědecká knihovna\, Na Sadech 27\, dětské oddělní
DESCRIPTION:více na: https://www.cbvk.cz/aktuality.html?idakce=956
DTSTART:20220222
DTEND:20220222
SUMMARY:Čítánky \, čas: 15:30
URL;VALUE=URI:https://www.cbvk.cz/aktuality.html?idakce=956
DTSTAMP:20260420
UID:69e56adb6af1b
END:VEVENT
END:VCALENDAR