BEGIN:VCALENDAR
VERSION:2.0
PRODID:-//JVK//NONSGML v1.0//EN
CALSCALE:GREGORIAN
METHOD:PUBLISH
X-WR-CALNAME:Jihočeská vědecká knihovna
X-WR-TIMEZONE:Europe/Prague
X-WR-CALDESC:Akce pořádané v knihovně
BEGIN:VEVENT
LOCATION:Jihočeská vědecká knihovna\, online
DESCRIPTION:více na: https://www.cbvk.cz/aktuality.html?idakce=2136
DTSTART:20260306
DTEND:20270305
SUMMARY:Bibliografické rešerše - Příjem požadavků na zpracování rešerše běží beze změny.
URL;VALUE=URI:https://www.cbvk.cz/aktuality.html?idakce=2136
DTSTAMP:20260421
UID:69e6ec140e5b7
END:VEVENT
END:VCALENDAR